BEGIN:VCALENDAR
VERSION:2.0
PRODID:-//IIUG - ECPv6.15.20//NONSGML v1.0//EN
CALSCALE:GREGORIAN
METHOD:PUBLISH
X-WR-CALNAME:IIUG
X-ORIGINAL-URL:https://www.iiug.org
X-WR-CALDESC:Events for IIUG
REFRESH-INTERVAL;VALUE=DURATION:PT1H
X-Robots-Tag:noindex
X-PUBLISHED-TTL:PT1H
BEGIN:VTIMEZONE
TZID:America/New_York
BEGIN:DAYLIGHT
TZOFFSETFROM:-0500
TZOFFSETTO:-0400
TZNAME:EDT
DTSTART:20240310T070000
END:DAYLIGHT
BEGIN:STANDARD
TZOFFSETFROM:-0400
TZOFFSETTO:-0500
TZNAME:EST
DTSTART:20241103T060000
END:STANDARD
BEGIN:DAYLIGHT
TZOFFSETFROM:-0500
TZOFFSETTO:-0400
TZNAME:EDT
DTSTART:20250309T070000
END:DAYLIGHT
BEGIN:STANDARD
TZOFFSETFROM:-0400
TZOFFSETTO:-0500
TZNAME:EST
DTSTART:20251102T060000
END:STANDARD
BEGIN:DAYLIGHT
TZOFFSETFROM:-0500
TZOFFSETTO:-0400
TZNAME:EDT
DTSTART:20260308T070000
END:DAYLIGHT
BEGIN:STANDARD
TZOFFSETFROM:-0400
TZOFFSETTO:-0500
TZNAME:EST
DTSTART:20261101T060000
END:STANDARD
END:VTIMEZONE
BEGIN:VEVENT
DTSTART;TZID=America/New_York:20250821T120000
DTEND;TZID=America/New_York:20250821T130000
DTSTAMP:20260421T065423
CREATED:20250807T220528Z
LAST-MODIFIED:20250822T092808Z
UID:14803-1755777600-1755781200@www.iiug.org
SUMMARY:IIUG Tech Talk - What’s New in InformixHQ 3.1.0
DESCRIPTION:Join Ajay Satbhadre for an in-depth look at the latest features and enhancements in InformixHQ 3.1.0—the modern monitoring and administration tool for Informix databases. This session will cover new administration capabilities and improved ease-of-use enhancements designed to streamline your Informix experience. \nKey topics include: \n\n\n\nAdministration \n\nRole Management: Create\, assign\, and grant roles with enhanced privilege management.\nBackup Support: Automatic and manual backup of the H2DB for greater reliability.\nDatabase Utilities Integration: Run dbimport\, dbexport\, and dbschema directly from the InformixHQ interface.\n\nEase of Use \n\nPWA Support: Install InformixHQ as a Progressive Web App for quick\, seamless access.\nDBspace List Enhancement: View physical dbspace types and critical dbspaces at a glance.\nServer Log Enhancements: Filter logs by level and server\, with improved traceability.\n\nWhether you’re an Informix administrator\, developer\, or enthusiast\, this session will help you get the most out of InformixHQ 3.1.0. Don’t miss it! \n\n \nWe will also have Rahulkumar Chavhan (UI/UX designer) in this Techtalk to get feedback about UX from customers as an extra add on if there is time.\n \nAjay’s bio: \nAjay Satbhadre is a Senior Software Engineer at HCL Software\, specializing in the development and enhancement of InformixHQ — the modern monitoring and administration tool for Informix databases. With over 5 years of experience in the database industry\, he has played a key role in designing and implementing new capabilities for InformixHQ\, actively contributing to its ongoing development and innovation.\n\n\n \n \nREPLAY of TechTalk
URL:https://www.iiug.org/event/iiug-tech-talk-whats-new-in-informixhq-3-1-0/
END:VEVENT
END:VCALENDAR