BEGIN:VCALENDAR
VERSION:2.0
PRODID:-//IIUG - ECPv6.15.20//NONSGML v1.0//EN
CALSCALE:GREGORIAN
METHOD:PUBLISH
X-ORIGINAL-URL:https://www.iiug.org
X-WR-CALDESC:Events for IIUG
REFRESH-INTERVAL;VALUE=DURATION:PT1H
X-Robots-Tag:noindex
X-PUBLISHED-TTL:PT1H
BEGIN:VTIMEZONE
TZID:America/New_York
BEGIN:DAYLIGHT
TZOFFSETFROM:-0500
TZOFFSETTO:-0400
TZNAME:EDT
DTSTART:20240310T070000
END:DAYLIGHT
BEGIN:STANDARD
TZOFFSETFROM:-0400
TZOFFSETTO:-0500
TZNAME:EST
DTSTART:20241103T060000
END:STANDARD
BEGIN:DAYLIGHT
TZOFFSETFROM:-0500
TZOFFSETTO:-0400
TZNAME:EDT
DTSTART:20250309T070000
END:DAYLIGHT
BEGIN:STANDARD
TZOFFSETFROM:-0400
TZOFFSETTO:-0500
TZNAME:EST
DTSTART:20251102T060000
END:STANDARD
BEGIN:DAYLIGHT
TZOFFSETFROM:-0500
TZOFFSETTO:-0400
TZNAME:EDT
DTSTART:20260308T070000
END:DAYLIGHT
BEGIN:STANDARD
TZOFFSETFROM:-0400
TZOFFSETTO:-0500
TZNAME:EST
DTSTART:20261101T060000
END:STANDARD
END:VTIMEZONE
BEGIN:VEVENT
DTSTART;TZID=America/New_York:20250717T130000
DTEND;TZID=America/New_York:20250717T130000
DTSTAMP:20260421T082610
CREATED:20250702T121231Z
LAST-MODIFIED:20250704T144256Z
UID:14717-1752757200-1752757200@www.iiug.org
SUMMARY:IIUG Tech Talk July 17\, 1 PM EST 2025 By Paul Watson
DESCRIPTION:Paul Watson has been using Informix for 35 years\, moving to consultancy after 5 years. Along with three other consults formed Oninit  (UK)\, and eventually Oninit (US) in 2006. Paul travels globally specializing in ER\, Timeseries and UDR work.Building a Data Warehouse with Informix and MariaDB \nSUBJECT\nThis a case study showing how data from multiple Informix clusters can be consolidated and used to seed a MariaDB Warehouse. It will examine how to build the consolidation servers and discuss the issues of pushing this data to MariaDB. \n  \nRegister Here \n 
URL:https://www.iiug.org/event/iiug-tech-talk-july-17-1-pm-est-2025-by-paul-watson/
CATEGORIES:IIUG,IIUG TechTalks,News
ORGANIZER;CN="IIUG":MAILTO:cindy@iiug.org
END:VEVENT
END:VCALENDAR