BEGIN:VCALENDAR
VERSION:2.0
PRODID:-//IIUG - ECPv6.15.20//NONSGML v1.0//EN
CALSCALE:GREGORIAN
METHOD:PUBLISH
X-ORIGINAL-URL:https://www.iiug.org
X-WR-CALDESC:Events for IIUG
REFRESH-INTERVAL;VALUE=DURATION:PT1H
X-Robots-Tag:noindex
X-PUBLISHED-TTL:PT1H
BEGIN:VTIMEZONE
TZID:America/New_York
BEGIN:DAYLIGHT
TZOFFSETFROM:-0500
TZOFFSETTO:-0400
TZNAME:EDT
DTSTART:20230312T070000
END:DAYLIGHT
BEGIN:STANDARD
TZOFFSETFROM:-0400
TZOFFSETTO:-0500
TZNAME:EST
DTSTART:20231105T060000
END:STANDARD
BEGIN:DAYLIGHT
TZOFFSETFROM:-0500
TZOFFSETTO:-0400
TZNAME:EDT
DTSTART:20240310T070000
END:DAYLIGHT
BEGIN:STANDARD
TZOFFSETFROM:-0400
TZOFFSETTO:-0500
TZNAME:EST
DTSTART:20241103T060000
END:STANDARD
BEGIN:DAYLIGHT
TZOFFSETFROM:-0500
TZOFFSETTO:-0400
TZNAME:EDT
DTSTART:20250309T070000
END:DAYLIGHT
BEGIN:STANDARD
TZOFFSETFROM:-0400
TZOFFSETTO:-0500
TZNAME:EST
DTSTART:20251102T060000
END:STANDARD
END:VTIMEZONE
BEGIN:VEVENT
DTSTART;TZID=America/New_York:20241203T090000
DTEND;TZID=America/New_York:20241203T100000
DTSTAMP:20260421T194217
CREATED:20241119T235304Z
LAST-MODIFIED:20250118T012242Z
UID:14511-1733216400-1733220000@www.iiug.org
SUMMARY:Pushing the boundaries of data scalability: An overview of Informix 15
DESCRIPTION:Tue\, Dec 3\, 2024\, 9:00 AM EST (7:30 PM Asia/Calcutta)  \nSpeaker: Carlton Doe\, Informix Database Technical Product Manager\, IBM  \nREGISTER HERE
URL:https://www.iiug.org/event/pushing-the-boundaries-of-data-scalability-an-overview-of-informix-15/
END:VEVENT
END:VCALENDAR