BEGIN:VCALENDAR
VERSION:2.0
PRODID:-//IIUG - ECPv6.15.20//NONSGML v1.0//EN
CALSCALE:GREGORIAN
METHOD:PUBLISH
X-ORIGINAL-URL:https://www.iiug.org
X-WR-CALDESC:Events for IIUG
REFRESH-INTERVAL;VALUE=DURATION:PT1H
X-Robots-Tag:noindex
X-PUBLISHED-TTL:PT1H
BEGIN:VTIMEZONE
TZID:America/New_York
BEGIN:DAYLIGHT
TZOFFSETFROM:-0500
TZOFFSETTO:-0400
TZNAME:EDT
DTSTART:20230312T070000
END:DAYLIGHT
BEGIN:STANDARD
TZOFFSETFROM:-0400
TZOFFSETTO:-0500
TZNAME:EST
DTSTART:20231105T060000
END:STANDARD
BEGIN:DAYLIGHT
TZOFFSETFROM:-0500
TZOFFSETTO:-0400
TZNAME:EDT
DTSTART:20240310T070000
END:DAYLIGHT
BEGIN:STANDARD
TZOFFSETFROM:-0400
TZOFFSETTO:-0500
TZNAME:EST
DTSTART:20241103T060000
END:STANDARD
BEGIN:DAYLIGHT
TZOFFSETFROM:-0500
TZOFFSETTO:-0400
TZNAME:EDT
DTSTART:20250309T070000
END:DAYLIGHT
BEGIN:STANDARD
TZOFFSETFROM:-0400
TZOFFSETTO:-0500
TZNAME:EST
DTSTART:20251102T060000
END:STANDARD
END:VTIMEZONE
BEGIN:VEVENT
DTSTART;TZID=America/New_York:20240620T100000
DTEND;TZID=America/New_York:20240620T110000
DTSTAMP:20260422T051015
CREATED:20240618T002712Z
LAST-MODIFIED:20240618T002712Z
UID:14357-1718877600-1718881200@www.iiug.org
SUMMARY:Unlock the value of your Informix data for advanced analytics and AI with watsonx.data Webinar
DESCRIPTION:Every conversation that starts with AI ends in data. To unlock your data’s potential\, organizations must dismantle data silos to continually access and meaningfully join diverse data types across all sources in real-time. A high-performance embeddable database\, IBM Informix is central to your ability to efficiently store and process data in enabling advanced analytics and real-time reporting of insights.   \nCustomers can now unlock additional value from their Informix data through integration with watsonx. IBM’s watsonx facilitates rapid\, governed access to data residing in IBM Informix\, seamlessly integrating it with other hybrid cloud data sources. Hear from IBM Informix and watsonx.data product management and partners on the benefits and use cases of this new solution. \nSpeakers: \nShripad Sonavnay\, Principal Product Manager\, Go-to-Market\, Db2 and Informix\, IBM Data and AI \nRohan Pednekar – Product Manager\, watsonx.data \nJan Musil – NCEE Partner Technical Professional – Data Management \nREGISTER HERE
URL:https://www.iiug.org/event/unlock-the-value-of-your-informix-data-for-advanced-analytics-and-ai-with-watsonx-data-webinar/
END:VEVENT
END:VCALENDAR