BEGIN:VCALENDAR
VERSION:2.0
PRODID:-//IIUG - ECPv6.15.20//NONSGML v1.0//EN
CALSCALE:GREGORIAN
METHOD:PUBLISH
X-ORIGINAL-URL:https://www.iiug.org
X-WR-CALDESC:Events for IIUG
REFRESH-INTERVAL;VALUE=DURATION:PT1H
X-Robots-Tag:noindex
X-PUBLISHED-TTL:PT1H
BEGIN:VTIMEZONE
TZID:America/New_York
BEGIN:DAYLIGHT
TZOFFSETFROM:-0500
TZOFFSETTO:-0400
TZNAME:EDT
DTSTART:20220313T070000
END:DAYLIGHT
BEGIN:STANDARD
TZOFFSETFROM:-0400
TZOFFSETTO:-0500
TZNAME:EST
DTSTART:20221106T060000
END:STANDARD
BEGIN:DAYLIGHT
TZOFFSETFROM:-0500
TZOFFSETTO:-0400
TZNAME:EDT
DTSTART:20230312T070000
END:DAYLIGHT
BEGIN:STANDARD
TZOFFSETFROM:-0400
TZOFFSETTO:-0500
TZNAME:EST
DTSTART:20231105T060000
END:STANDARD
BEGIN:DAYLIGHT
TZOFFSETFROM:-0500
TZOFFSETTO:-0400
TZNAME:EDT
DTSTART:20240310T070000
END:DAYLIGHT
BEGIN:STANDARD
TZOFFSETFROM:-0400
TZOFFSETTO:-0500
TZNAME:EST
DTSTART:20241103T060000
END:STANDARD
END:VTIMEZONE
BEGIN:VEVENT
DTSTART;TZID=America/New_York:20231026T140000
DTEND;TZID=America/New_York:20231026T150000
DTSTAMP:20260422T180313
CREATED:20231004T004445Z
LAST-MODIFIED:20231004T210633Z
UID:14044-1698328800-1698332400@www.iiug.org
SUMMARY:IIUG Informix TechTalk - Proving Stuff with Informix Internals by Mark Scranton
DESCRIPTION:Mark will use internals to prove concepts and fundamentals of IDS\, including staples as well as some new features \nRegistration Link: https://iiuginc-159.my.webex.com/weblink/register/r2d126df00334a452a241386a731bdfa9 \n 
URL:https://www.iiug.org/event/iiug-informix-techtalk-proving-stuff-with-informix-internals-by-mark-scranton/
END:VEVENT
END:VCALENDAR