BEGIN:VCALENDAR
VERSION:2.0
PRODID:-//IIUG - ECPv6.15.20//NONSGML v1.0//EN
CALSCALE:GREGORIAN
METHOD:PUBLISH
X-WR-CALNAME:IIUG
X-ORIGINAL-URL:https://www.iiug.org
X-WR-CALDESC:Events for IIUG
REFRESH-INTERVAL;VALUE=DURATION:PT1H
X-Robots-Tag:noindex
X-PUBLISHED-TTL:PT1H
BEGIN:VTIMEZONE
TZID:America/New_York
BEGIN:DAYLIGHT
TZOFFSETFROM:-0500
TZOFFSETTO:-0400
TZNAME:EDT
DTSTART:20220313T070000
END:DAYLIGHT
BEGIN:STANDARD
TZOFFSETFROM:-0400
TZOFFSETTO:-0500
TZNAME:EST
DTSTART:20221106T060000
END:STANDARD
BEGIN:DAYLIGHT
TZOFFSETFROM:-0500
TZOFFSETTO:-0400
TZNAME:EDT
DTSTART:20230312T070000
END:DAYLIGHT
BEGIN:STANDARD
TZOFFSETFROM:-0400
TZOFFSETTO:-0500
TZNAME:EST
DTSTART:20231105T060000
END:STANDARD
BEGIN:DAYLIGHT
TZOFFSETFROM:-0500
TZOFFSETTO:-0400
TZNAME:EDT
DTSTART:20240310T070000
END:DAYLIGHT
BEGIN:STANDARD
TZOFFSETFROM:-0400
TZOFFSETTO:-0500
TZNAME:EST
DTSTART:20241103T060000
END:STANDARD
END:VTIMEZONE
BEGIN:VTIMEZONE
TZID:Europe/Vienna
BEGIN:DAYLIGHT
TZOFFSETFROM:+0100
TZOFFSETTO:+0200
TZNAME:CEST
DTSTART:20220327T010000
END:DAYLIGHT
BEGIN:STANDARD
TZOFFSETFROM:+0200
TZOFFSETTO:+0100
TZNAME:CET
DTSTART:20221030T010000
END:STANDARD
BEGIN:DAYLIGHT
TZOFFSETFROM:+0100
TZOFFSETTO:+0200
TZNAME:CEST
DTSTART:20230326T010000
END:DAYLIGHT
BEGIN:STANDARD
TZOFFSETFROM:+0200
TZOFFSETTO:+0100
TZNAME:CET
DTSTART:20231029T010000
END:STANDARD
BEGIN:DAYLIGHT
TZOFFSETFROM:+0100
TZOFFSETTO:+0200
TZNAME:CEST
DTSTART:20240331T010000
END:DAYLIGHT
BEGIN:STANDARD
TZOFFSETFROM:+0200
TZOFFSETTO:+0100
TZNAME:CET
DTSTART:20241027T010000
END:STANDARD
END:VTIMEZONE
BEGIN:VEVENT
DTSTART;TZID=America/New_York:20230601T140000
DTEND;TZID=America/New_York:20230601T150000
DTSTAMP:20260423T000900
CREATED:20230523T191456Z
LAST-MODIFIED:20230530T193839Z
UID:13562-1685628000-1685631600@www.iiug.org
SUMMARY:IIUG Informix Tech Talk - Informix RoadMap Shripad Sonavnay Product Manager\, Db2 & Informix GTM  and Karen Qualley HCL
DESCRIPTION:Discover what’s new with IBM Informix 14.10. Includes fixpack details and future enhancements.\nREGISTER HERE
URL:https://www.iiug.org/event/iiug-informix-tech-talk-informix-roadmap-shripad-sonavnay-product-manager-db2-informix-gtm-and-karen-qualley-hcl/
END:VEVENT
BEGIN:VEVENT
DTSTART;TZID=Europe/Vienna:20230605T080000
DTEND;TZID=Europe/Vienna:20230606T170000
DTSTAMP:20260423T000900
CREATED:20230303T220917Z
LAST-MODIFIED:20230303T220917Z
UID:13229-1685952000-1686070800@www.iiug.org
SUMMARY:leolo Informix MasterMind Conference 23
DESCRIPTION:The conference is set to take place on June 5-6\, 2023\, at the Interalpen Hotel Tyrol in Austria. The event is expected to feature a range of topics related to the future of data security\, AI\, and predictive analytics\, among others. \nAttendees will have the opportunity to meet and learn from some of the leading international experts and speakers in these fields. The conference is designed to provide valuable insights into the latest trends and developments in data security\, AI\, and predictive analytics\, as well as to showcase innovative solutions and technologies. \nPreregistration is currently open\, and interested individuals can contact Leolo IT for more information about the conference\, including registration details\, the full list of speakers\, and the conference agenda. With its focus on cutting-edge technologies and emerging trends\, the Leolo IT/Informix Mastermind conference promises to be a must-attend event for anyone interested in the future of data security\, AI\, and predictive analytics.
URL:https://www.iiug.org/event/leolo-informix-mastermind-conference-23/
END:VEVENT
BEGIN:VEVENT
DTSTART;TZID=America/New_York:20230622T140000
DTEND;TZID=America/New_York:20230622T150000
DTSTAMP:20260423T000900
CREATED:20230612T201746Z
LAST-MODIFIED:20230612T201746Z
UID:13592-1687442400-1687446000@www.iiug.org
SUMMARY:IIUG Tech Talk - Lycia Low Code development platform by Hubert Hölzl from Querix
DESCRIPTION:As an introduction to the Low Code approach using Lycia\, we are going to demonstrate how the 4GL developer can provide to any existing and new programs all common application logics (display\, input\, insert\, update\, delete\,…) with a form and a single line of code. This behavior can be customized further using a rich set of runtime properties\, and we we will also show how the business logic can be added to the program without any training needed\, using classic & enhanced 4GL coding techniques. \nBio:Hubert Hubert has been working in IT for over 25 years and started working for Querix in 1999. He graduated from the University of Salford-Manchester UK with a BSc in Software Development and has been working with 4GL tools and services for over 10 years. His main role in Querix is to look after customers\, partners and to coordinate the different development projects on an upper management level. Hubert is currently the COO of Querix. Hubert lives near Munich\, Bavaria\, with his wife and 2 beautiful children.  \nREGISTER HERE
URL:https://www.iiug.org/event/iiug-tech-talk-lycia-low-code-development-platform-by-hubert-holzl-from-querix/
END:VEVENT
END:VCALENDAR