BEGIN:VCALENDAR
VERSION:2.0
PRODID:-//IIUG - ECPv6.15.20//NONSGML v1.0//EN
CALSCALE:GREGORIAN
METHOD:PUBLISH
X-WR-CALNAME:IIUG
X-ORIGINAL-URL:https://www.iiug.org
X-WR-CALDESC:Events for IIUG
REFRESH-INTERVAL;VALUE=DURATION:PT1H
X-Robots-Tag:noindex
X-PUBLISHED-TTL:PT1H
BEGIN:VTIMEZONE
TZID:America/New_York
BEGIN:DAYLIGHT
TZOFFSETFROM:-0500
TZOFFSETTO:-0400
TZNAME:EDT
DTSTART:20220313T070000
END:DAYLIGHT
BEGIN:STANDARD
TZOFFSETFROM:-0400
TZOFFSETTO:-0500
TZNAME:EST
DTSTART:20221106T060000
END:STANDARD
BEGIN:DAYLIGHT
TZOFFSETFROM:-0500
TZOFFSETTO:-0400
TZNAME:EDT
DTSTART:20230312T070000
END:DAYLIGHT
BEGIN:STANDARD
TZOFFSETFROM:-0400
TZOFFSETTO:-0500
TZNAME:EST
DTSTART:20231105T060000
END:STANDARD
BEGIN:DAYLIGHT
TZOFFSETFROM:-0500
TZOFFSETTO:-0400
TZNAME:EDT
DTSTART:20240310T070000
END:DAYLIGHT
BEGIN:STANDARD
TZOFFSETFROM:-0400
TZOFFSETTO:-0500
TZNAME:EST
DTSTART:20241103T060000
END:STANDARD
END:VTIMEZONE
BEGIN:VEVENT
DTSTART;VALUE=DATE:20230118
DTEND;VALUE=DATE:20230120
DTSTAMP:20260423T075959
CREATED:20221026T003242Z
LAST-MODIFIED:20230118T192841Z
UID:13074-1674000000-1674172799@www.iiug.org
SUMMARY:Informix 14.10 Badge  Exam  and Tutorials Purchase
DESCRIPTION:EXAM and TUTORIALS  FEE IS $250.00 \nYou will have 30 days to view the two tutorials that were given by Scott Pickett and Carlton Doe at the 2021 IIUG Virtual Conference.  You will be sent a separate email with the links and passwords. \nExam must be completed within 90 days of purchase.  The $250 dollars is non-refundable.   You will receive an email with a confirmation code with your payment.   \nOnce you receive your confirmation code\, email Stuart Litel (slitel@ibm.com) with your code and he will work with you to schedule your exam.  \nThe exam will be administered online.  You are required to complete the exam with a proctor from our approved list\, or nominate one of your own.  You will be required to have a live webcam running as you complete the exam.   (For those not familiar with the term Proctor: The word proctor is frequently used to describe someone who oversees an exam. In today’s testing environment\, a proctor will typically verify a student’s identity by checking a photo ID and then ensures academic integrity guidelines are followed during the exam.) \nYou will have 90 minutes to answer 60 questions.  You must achieve a 72% to receive your badge.  \nIf you have any questions\, please contact conference@iiug.org.
URL:https://www.iiug.org/event/informix-14-10-badge-exam-and-tutorials-purchase/
LOCATION:Untitled\, KS\, United States
ORGANIZER;CN="IIUG":MAILTO:cindy@iiug.org
END:VEVENT
END:VCALENDAR