BEGIN:VCALENDAR
VERSION:2.0
PRODID:-//IIUG - ECPv6.15.20//NONSGML v1.0//EN
CALSCALE:GREGORIAN
METHOD:PUBLISH
X-WR-CALNAME:IIUG
X-ORIGINAL-URL:https://www.iiug.org
X-WR-CALDESC:Events for IIUG
REFRESH-INTERVAL;VALUE=DURATION:PT1H
X-Robots-Tag:noindex
X-PUBLISHED-TTL:PT1H
BEGIN:VTIMEZONE
TZID:America/New_York
BEGIN:DAYLIGHT
TZOFFSETFROM:-0500
TZOFFSETTO:-0400
TZNAME:EDT
DTSTART:20210314T070000
END:DAYLIGHT
BEGIN:STANDARD
TZOFFSETFROM:-0400
TZOFFSETTO:-0500
TZNAME:EST
DTSTART:20211107T060000
END:STANDARD
BEGIN:DAYLIGHT
TZOFFSETFROM:-0500
TZOFFSETTO:-0400
TZNAME:EDT
DTSTART:20220313T070000
END:DAYLIGHT
BEGIN:STANDARD
TZOFFSETFROM:-0400
TZOFFSETTO:-0500
TZNAME:EST
DTSTART:20221106T060000
END:STANDARD
BEGIN:DAYLIGHT
TZOFFSETFROM:-0500
TZOFFSETTO:-0400
TZNAME:EDT
DTSTART:20230312T070000
END:DAYLIGHT
BEGIN:STANDARD
TZOFFSETFROM:-0400
TZOFFSETTO:-0500
TZNAME:EST
DTSTART:20231105T060000
END:STANDARD
END:VTIMEZONE
BEGIN:VEVENT
DTSTART;TZID=America/New_York:20220519T140000
DTEND;TZID=America/New_York:20220519T150000
DTSTAMP:20260423T201105
CREATED:20220413T152229Z
LAST-MODIFIED:20220519T144150Z
UID:12727-1652968800-1652972400@www.iiug.org
SUMMARY:Setting up end to end Informix connections using Connection Manager by Thomas Beebe
DESCRIPTION:Connection Manager is one of the most useful and most underused additional tools with Informix. It helps manage connection loads\, handles routing\, can give extra security and functionality to legacy applications and will help IT staff better manage system failovers. It is also free. In this talk we will go through setting up Connection Manager in a number of different settings and with an eye on real use cases and improving your security both for modern and legacy systems. \nRegister here
URL:https://www.iiug.org/event/setting-up-end-to-end-informix-connections-using-connection-manger-by-thomas-beebe/
END:VEVENT
END:VCALENDAR