BEGIN:VCALENDAR
VERSION:2.0
PRODID:-//IIUG - ECPv6.15.20//NONSGML v1.0//EN
CALSCALE:GREGORIAN
METHOD:PUBLISH
X-ORIGINAL-URL:https://www.iiug.org
X-WR-CALDESC:Events for IIUG
REFRESH-INTERVAL;VALUE=DURATION:PT1H
X-Robots-Tag:noindex
X-PUBLISHED-TTL:PT1H
BEGIN:VTIMEZONE
TZID:America/New_York
BEGIN:DAYLIGHT
TZOFFSETFROM:-0500
TZOFFSETTO:-0400
TZNAME:EDT
DTSTART:20210314T070000
END:DAYLIGHT
BEGIN:STANDARD
TZOFFSETFROM:-0400
TZOFFSETTO:-0500
TZNAME:EST
DTSTART:20211107T060000
END:STANDARD
BEGIN:DAYLIGHT
TZOFFSETFROM:-0500
TZOFFSETTO:-0400
TZNAME:EDT
DTSTART:20220313T070000
END:DAYLIGHT
BEGIN:STANDARD
TZOFFSETFROM:-0400
TZOFFSETTO:-0500
TZNAME:EST
DTSTART:20221106T060000
END:STANDARD
BEGIN:DAYLIGHT
TZOFFSETFROM:-0500
TZOFFSETTO:-0400
TZNAME:EDT
DTSTART:20230312T070000
END:DAYLIGHT
BEGIN:STANDARD
TZOFFSETFROM:-0400
TZOFFSETTO:-0500
TZNAME:EST
DTSTART:20231105T060000
END:STANDARD
END:VTIMEZONE
BEGIN:VEVENT
DTSTART;TZID=America/New_York:20220310T140000
DTEND;TZID=America/New_York:20220310T150000
DTSTAMP:20260423T234736
CREATED:20220201T223454Z
LAST-MODIFIED:20220201T223454Z
UID:11529-1646920800-1646924400@www.iiug.org
SUMMARY:IIUG Informix TechTalk: Intro to Informix Performance Tuning by Lester Knutsen
DESCRIPTION:Lester Knutsen will present his top 10 Informix Database Servers performance tuning tips. The Webcast is a free introduction to Informix performance from the first lecture of his Advanced Informix Performance Tuning Course. This will also be our first test of a Webcast using Zoom.  \nPlease register – https://www.iiug.org/en/services/next-webcast/
URL:https://www.iiug.org/event/iiug-informix-techtalk-intro-to-informix-performance-tuning-by-lester-knutsen/
END:VEVENT
END:VCALENDAR