BEGIN:VCALENDAR
VERSION:2.0
PRODID:-//IIUG - ECPv6.15.20//NONSGML v1.0//EN
CALSCALE:GREGORIAN
METHOD:PUBLISH
X-ORIGINAL-URL:https://www.iiug.org
X-WR-CALDESC:Events for IIUG
REFRESH-INTERVAL;VALUE=DURATION:PT1H
X-Robots-Tag:noindex
X-PUBLISHED-TTL:PT1H
BEGIN:VTIMEZONE
TZID:America/New_York
BEGIN:DAYLIGHT
TZOFFSETFROM:-0500
TZOFFSETTO:-0400
TZNAME:EDT
DTSTART:20210314T070000
END:DAYLIGHT
BEGIN:STANDARD
TZOFFSETFROM:-0400
TZOFFSETTO:-0500
TZNAME:EST
DTSTART:20211107T060000
END:STANDARD
BEGIN:DAYLIGHT
TZOFFSETFROM:-0500
TZOFFSETTO:-0400
TZNAME:EDT
DTSTART:20220313T070000
END:DAYLIGHT
BEGIN:STANDARD
TZOFFSETFROM:-0400
TZOFFSETTO:-0500
TZNAME:EST
DTSTART:20221106T060000
END:STANDARD
BEGIN:DAYLIGHT
TZOFFSETFROM:-0500
TZOFFSETTO:-0400
TZNAME:EDT
DTSTART:20230312T070000
END:DAYLIGHT
BEGIN:STANDARD
TZOFFSETFROM:-0400
TZOFFSETTO:-0500
TZNAME:EST
DTSTART:20231105T060000
END:STANDARD
END:VTIMEZONE
BEGIN:VEVENT
DTSTART;TZID=America/New_York:20220210T140000
DTEND;TZID=America/New_York:20220210T150000
DTSTAMP:20260424T011938
CREATED:20220201T223219Z
LAST-MODIFIED:20220201T223522Z
UID:11527-1644501600-1644505200@www.iiug.org
SUMMARY:IIUG Informix TechTalk: All about Informix data export and Import tools by Art S. Kagel
DESCRIPTION:Art will share his latest testing on Informix data export and Import tools\, loading and unloading data. Art will discuss his newest version of myexport that can do an INFORMIX mode export and import. He will share info on unloads and loads with UNLOAD/LOAD\, external tables in DELIMITED mode\, external tables in INFORMIX mode\, and my binary load/unload utility ul.ec on tables with different types of data. \n  \nPlease register – https://www.iiug.org/en/services/next-webcast/
URL:https://www.iiug.org/event/iiug-informix-techtalk-all-about-informix-data-export-and-import-tools-by-art-s-kagel/
END:VEVENT
END:VCALENDAR