BEGIN:VCALENDAR
VERSION:2.0
PRODID:-//IIUG - ECPv6.15.20//NONSGML v1.0//EN
CALSCALE:GREGORIAN
METHOD:PUBLISH
X-ORIGINAL-URL:https://www.iiug.org
X-WR-CALDESC:Events for IIUG
REFRESH-INTERVAL;VALUE=DURATION:PT1H
X-Robots-Tag:noindex
X-PUBLISHED-TTL:PT1H
BEGIN:VTIMEZONE
TZID:America/New_York
BEGIN:DAYLIGHT
TZOFFSETFROM:-0500
TZOFFSETTO:-0400
TZNAME:EDT
DTSTART:20200308T070000
END:DAYLIGHT
BEGIN:STANDARD
TZOFFSETFROM:-0400
TZOFFSETTO:-0500
TZNAME:EST
DTSTART:20201101T060000
END:STANDARD
BEGIN:DAYLIGHT
TZOFFSETFROM:-0500
TZOFFSETTO:-0400
TZNAME:EDT
DTSTART:20210314T070000
END:DAYLIGHT
BEGIN:STANDARD
TZOFFSETFROM:-0400
TZOFFSETTO:-0500
TZNAME:EST
DTSTART:20211107T060000
END:STANDARD
BEGIN:DAYLIGHT
TZOFFSETFROM:-0500
TZOFFSETTO:-0400
TZNAME:EDT
DTSTART:20220313T070000
END:DAYLIGHT
BEGIN:STANDARD
TZOFFSETFROM:-0400
TZOFFSETTO:-0500
TZNAME:EST
DTSTART:20221106T060000
END:STANDARD
END:VTIMEZONE
BEGIN:VEVENT
DTSTART;VALUE=DATE:20211122
DTEND;VALUE=DATE:20211130
DTSTAMP:20260424T060603
CREATED:20211031T183955Z
LAST-MODIFIED:20211102T011135Z
UID:11456-1637539200-1638230399@www.iiug.org
SUMMARY:Replay of IIUG World 2021 Informix 14.10 Certification Prep Tutorials
DESCRIPTION:$100 Registration Fee. (Non-refundable) \nPLEASE NOTE – ONLY PAYMENT ACCEPTED IS PAYPAL!  (NO CREDIT CARDS PLEASE) \nIf you missed IIUG World 2021\, you missed the Badge Preparation Tutorials offered by Carlton Doe and Scott Pickett to prepare you for the test.  Register now for the nominal fee of $100 \n           November 22\, 2021 8:00 AM US Eastern Time Informix Badge Preparation Training – Part One – Carlton Doe  \n           November 29\, 2021 8:00 AM US Eastern Time Informix Badge Preparation Training – Part Two – Scott Pickett 
URL:https://www.iiug.org/event/replay-if-iiug-world-2021-informix-14-10-certification-prep-tutorials/
ORGANIZER;CN="IIUG":MAILTO:cindy@iiug.org
END:VEVENT
END:VCALENDAR