BEGIN:VCALENDAR
VERSION:2.0
PRODID:-//IIUG - ECPv6.15.20//NONSGML v1.0//EN
CALSCALE:GREGORIAN
METHOD:PUBLISH
X-ORIGINAL-URL:https://www.iiug.org
X-WR-CALDESC:Events for IIUG
REFRESH-INTERVAL;VALUE=DURATION:PT1H
X-Robots-Tag:noindex
X-PUBLISHED-TTL:PT1H
BEGIN:VTIMEZONE
TZID:America/New_York
BEGIN:DAYLIGHT
TZOFFSETFROM:-0500
TZOFFSETTO:-0400
TZNAME:EDT
DTSTART:20200308T070000
END:DAYLIGHT
BEGIN:STANDARD
TZOFFSETFROM:-0400
TZOFFSETTO:-0500
TZNAME:EST
DTSTART:20201101T060000
END:STANDARD
BEGIN:DAYLIGHT
TZOFFSETFROM:-0500
TZOFFSETTO:-0400
TZNAME:EDT
DTSTART:20210314T070000
END:DAYLIGHT
BEGIN:STANDARD
TZOFFSETFROM:-0400
TZOFFSETTO:-0500
TZNAME:EST
DTSTART:20211107T060000
END:STANDARD
BEGIN:DAYLIGHT
TZOFFSETFROM:-0500
TZOFFSETTO:-0400
TZNAME:EDT
DTSTART:20220313T070000
END:DAYLIGHT
BEGIN:STANDARD
TZOFFSETFROM:-0400
TZOFFSETTO:-0500
TZNAME:EST
DTSTART:20221106T060000
END:STANDARD
END:VTIMEZONE
BEGIN:VEVENT
DTSTART;VALUE=DATE:20211005
DTEND;VALUE=DATE:20211008
DTSTAMP:20260424T074124
CREATED:20210527T234449Z
LAST-MODIFIED:20211005T182556Z
UID:10504-1633392000-1633651199@www.iiug.org
SUMMARY:2021 IIUG Virtual Event
DESCRIPTION:Registration for this event is $199. \nPlease note – PAYMENT FOR THIS EVENT IS VIA PAYPAL ONLY!  CREDIT CARDS VIA PAYPAL ARE NOT ACCEPTED. \nAs with other events this year\, IIUG World 2021 is Virtual. \nJoin us Oct 5 – 7 beginning at 10:00 am EDT for the largest gathering of Informix professionals.  This will be 3 half days of technical content. \nPaid registration includes: \n\nThree half days of technical content\nFree Informix 14.10 certification\nAccess to the 2 Informix Administration Certification Preparation Tutorials to be held after IIUG World 2021\n\nIf you have any questions\, please email us at conference@iiug.org.
URL:https://www.iiug.org/event/2021-iiug-virtual-event/
ORGANIZER;CN="IIUG":MAILTO:cindy@iiug.org
END:VEVENT
END:VCALENDAR