BEGIN:VCALENDAR
VERSION:2.0
PRODID:-//IIUG - ECPv6.15.20//NONSGML v1.0//EN
CALSCALE:GREGORIAN
METHOD:PUBLISH
X-WR-CALNAME:IIUG
X-ORIGINAL-URL:https://www.iiug.org
X-WR-CALDESC:Events for IIUG
REFRESH-INTERVAL;VALUE=DURATION:PT1H
X-Robots-Tag:noindex
X-PUBLISHED-TTL:PT1H
BEGIN:VTIMEZONE
TZID:America/New_York
BEGIN:DAYLIGHT
TZOFFSETFROM:-0500
TZOFFSETTO:-0400
TZNAME:EDT
DTSTART:20200308T070000
END:DAYLIGHT
BEGIN:STANDARD
TZOFFSETFROM:-0400
TZOFFSETTO:-0500
TZNAME:EST
DTSTART:20201101T060000
END:STANDARD
BEGIN:DAYLIGHT
TZOFFSETFROM:-0500
TZOFFSETTO:-0400
TZNAME:EDT
DTSTART:20210314T070000
END:DAYLIGHT
BEGIN:STANDARD
TZOFFSETFROM:-0400
TZOFFSETTO:-0500
TZNAME:EST
DTSTART:20211107T060000
END:STANDARD
BEGIN:DAYLIGHT
TZOFFSETFROM:-0500
TZOFFSETTO:-0400
TZNAME:EDT
DTSTART:20220313T070000
END:DAYLIGHT
BEGIN:STANDARD
TZOFFSETFROM:-0400
TZOFFSETTO:-0500
TZNAME:EST
DTSTART:20221106T060000
END:STANDARD
END:VTIMEZONE
BEGIN:VEVENT
DTSTART;TZID=America/New_York:20210902T140000
DTEND;TZID=America/New_York:20210902T150000
DTSTAMP:20260424T093332
CREATED:20210730T170400Z
LAST-MODIFIED:20210730T170400Z
UID:11332-1630591200-1630594800@www.iiug.org
SUMMARY:IIUG Tech Talk - Introduction to Informix Enterprise Replication
DESCRIPTION:Date: Thursday\, September 2\, 2021 2:00pm EDT \nDescription: Everything you need to know to get started with Informix Enterprise Replication. \nBio: Paul Watson\, Oninit LLC\nPaul Watson has been using Informix for over 30 years\, founding Oninit in 1999 and moving to the US in 2006 to establish Oninit LLC. Pre-plague Paul traveled the world on various Informix projects\, specializing in ER and TimeSeries implementations. \nRegister Here
URL:https://www.iiug.org/event/iiug-tech-talk-introduction-to-informix-enterprise-replication/
END:VEVENT
END:VCALENDAR