BEGIN:VCALENDAR
VERSION:2.0
PRODID:-//IIUG - ECPv6.15.20//NONSGML v1.0//EN
CALSCALE:GREGORIAN
METHOD:PUBLISH
X-ORIGINAL-URL:https://www.iiug.org
X-WR-CALDESC:Events for IIUG
REFRESH-INTERVAL;VALUE=DURATION:PT1H
X-Robots-Tag:noindex
X-PUBLISHED-TTL:PT1H
BEGIN:VTIMEZONE
TZID:America/New_York
BEGIN:DAYLIGHT
TZOFFSETFROM:-0500
TZOFFSETTO:-0400
TZNAME:EDT
DTSTART:20200308T070000
END:DAYLIGHT
BEGIN:STANDARD
TZOFFSETFROM:-0400
TZOFFSETTO:-0500
TZNAME:EST
DTSTART:20201101T060000
END:STANDARD
BEGIN:DAYLIGHT
TZOFFSETFROM:-0500
TZOFFSETTO:-0400
TZNAME:EDT
DTSTART:20210314T070000
END:DAYLIGHT
BEGIN:STANDARD
TZOFFSETFROM:-0400
TZOFFSETTO:-0500
TZNAME:EST
DTSTART:20211107T060000
END:STANDARD
BEGIN:DAYLIGHT
TZOFFSETFROM:-0500
TZOFFSETTO:-0400
TZNAME:EDT
DTSTART:20220313T070000
END:DAYLIGHT
BEGIN:STANDARD
TZOFFSETFROM:-0400
TZOFFSETTO:-0500
TZNAME:EST
DTSTART:20221106T060000
END:STANDARD
END:VTIMEZONE
BEGIN:VEVENT
DTSTART;TZID=America/New_York:20210713T110000
DTEND;TZID=America/New_York:20210713T123000
DTSTAMP:20260424T131050
CREATED:20210527T232751Z
LAST-MODIFIED:20210711T231338Z
UID:10501-1626174000-1626179400@www.iiug.org
SUMMARY:IIUG/IBM xc6 Webcast - IHQ and Backup from RS secondary
DESCRIPTION:July 13\, 2021 at 11 am Eastern (June 29\, 2021 15:00 GMT) \nTopics: IHQ and Backup from RS secondary \nPresenter – Carlton Doe \n 
URL:https://www.iiug.org/event/iiug-ibm-xc6-webcast-ihq-and-backup-from-rs-secondary/
ORGANIZER;CN="Cindy Lichtenauer":MAILTO:cindy@iiug.org
END:VEVENT
BEGIN:VEVENT
DTSTART;TZID=America/New_York:20210722T130000
DTEND;TZID=America/New_York:20210722T160000
DTSTAMP:20260424T131050
CREATED:20210504T232526Z
LAST-MODIFIED:20210520T220135Z
UID:10459-1626958800-1626969600@www.iiug.org
SUMMARY:Washington Area Informix User Group Meeting
DESCRIPTION:Washington Area Informix User Group Meeting \nMeeting number: 182 284 6819\nPassword: G0!Informix (40046367 from video systems)\nAgenda: Informix Tech Talks from the IIUG  hosting the Washington Area Informix User Group Meeting (WAIUG) \nJoin by video system\nDial 1822846819@webex.com\nYou can also dial 173.243.2.68 and enter your meeting number. \nJoin by phone\nUse VoIP only \n  \nRegister Here
URL:https://www.iiug.org/event/washington-area-informix-user-group-meeting-3/
END:VEVENT
END:VCALENDAR