BEGIN:VCALENDAR
VERSION:2.0
PRODID:-//IIUG - ECPv6.15.20//NONSGML v1.0//EN
CALSCALE:GREGORIAN
METHOD:PUBLISH
X-ORIGINAL-URL:https://www.iiug.org
X-WR-CALDESC:Events for IIUG
REFRESH-INTERVAL;VALUE=DURATION:PT1H
X-Robots-Tag:noindex
X-PUBLISHED-TTL:PT1H
BEGIN:VTIMEZONE
TZID:America/New_York
BEGIN:DAYLIGHT
TZOFFSETFROM:-0500
TZOFFSETTO:-0400
TZNAME:EDT
DTSTART:20200308T070000
END:DAYLIGHT
BEGIN:STANDARD
TZOFFSETFROM:-0400
TZOFFSETTO:-0500
TZNAME:EST
DTSTART:20201101T060000
END:STANDARD
BEGIN:DAYLIGHT
TZOFFSETFROM:-0500
TZOFFSETTO:-0400
TZNAME:EDT
DTSTART:20210314T070000
END:DAYLIGHT
BEGIN:STANDARD
TZOFFSETFROM:-0400
TZOFFSETTO:-0500
TZNAME:EST
DTSTART:20211107T060000
END:STANDARD
BEGIN:DAYLIGHT
TZOFFSETFROM:-0500
TZOFFSETTO:-0400
TZNAME:EDT
DTSTART:20220313T070000
END:DAYLIGHT
BEGIN:STANDARD
TZOFFSETFROM:-0400
TZOFFSETTO:-0500
TZNAME:EST
DTSTART:20221106T060000
END:STANDARD
END:VTIMEZONE
BEGIN:VEVENT
DTSTART;TZID=America/New_York:20210617T110000
DTEND;TZID=America/New_York:20210617T120000
DTSTAMP:20260424T145152
CREATED:20210528T164414Z
LAST-MODIFIED:20210528T164414Z
UID:10509-1623927600-1623931200@www.iiug.org
SUMMARY:Latest enhancements in IBM Informix 14.10xC6  Webcast
DESCRIPTION:When:  June 17\, 2021 at 11 am Eastern (June 17\, 2021 15:00 GMT) \nSpeaker:  JC Lengyel \nWebinar title:  Latest enhancements in IBM Informix 14.10xC6  \nDescription:  Join us for an overview of Informix 14.10xC6 enhancements.  We’ll give you a preview to enhanced performance\, security and availability in the latest release. 
URL:https://www.iiug.org/event/latest-enhancements-in-ibm-informix-14-10xc6-webcast/
ORGANIZER;CN="Cindy Lichtenauer":MAILTO:cindy@iiug.org
END:VEVENT
BEGIN:VEVENT
DTSTART;TZID=America/New_York:20210622T110000
DTEND;TZID=America/New_York:20210622T123000
DTSTAMP:20260424T145152
CREATED:20210527T231055Z
LAST-MODIFIED:20210527T231055Z
UID:10491-1624359600-1624365000@www.iiug.org
SUMMARY:IIUG/IBM xc6 Webcast - Kernel\, Enterprise Replication and SQL features
DESCRIPTION:June 22\, 2021 at 11 am Eastern (June 22\, 2021 15:00 GMT \nTopic: Kernel\, Enterprise Replication and SQL features \nPresenter – Carlton Doe \nPlease note – When you register for this webcast\, you will automatically be registered for the June 29th xc6 webcast. \n 
URL:https://www.iiug.org/event/iiug-ibm-xc6-webcast-kernel-enterprise-replication-and-sql-features/
ORGANIZER;CN="Cindy Lichtenauer":MAILTO:cindy@iiug.org
END:VEVENT
BEGIN:VEVENT
DTSTART;TZID=America/New_York:20210624T140000
DTEND;TZID=America/New_York:20210624T150000
DTSTAMP:20260424T145152
CREATED:20210602T192617Z
LAST-MODIFIED:20210602T192617Z
UID:10515-1624543200-1624546800@www.iiug.org
SUMMARY:History of the Informix User Groups – Part 1 by Carlton Doe\, Walt Hultgren\, Cathy Kipp\, Lester Knutsen\, and Mike Reetz
DESCRIPTION:Title: History of the Informix User Groups – Part 1 by Carlton Doe\, Walt Hultgren\, Cathy Kipp\, Lester Knutsen\, and Mike Reetz \nDescription: We will share stories about how the Informix User Groups got started in the early ’90s. Does anyone else remember 1200 baud modems and the role they played in communications before the internet?  This started out as an oral history of Informix user groups with a few old folks trying to remember things and we had fun getting together and sharing stories. \nBio: Carlton Doe\, Walt Hultgren\, Cathy Kipp\, Lester Knutsen\, and Mike Reetz (along with Malcolm Weallans) were active Informix user group leaders in the 90’s who got together and became the original founders of the International Informix User Group. \nREGISTER HERE
URL:https://www.iiug.org/event/history-of-the-informix-user-groups-part-1-by-carlton-doe-walt-hultgren-cathy-kipp-lester-knutsen-and-mike-reetz/
END:VEVENT
END:VCALENDAR