BEGIN:VCALENDAR
VERSION:2.0
PRODID:-//IIUG - ECPv6.15.20//NONSGML v1.0//EN
CALSCALE:GREGORIAN
METHOD:PUBLISH
X-ORIGINAL-URL:https://www.iiug.org
X-WR-CALDESC:Events for IIUG
REFRESH-INTERVAL;VALUE=DURATION:PT1H
X-Robots-Tag:noindex
X-PUBLISHED-TTL:PT1H
BEGIN:VTIMEZONE
TZID:America/New_York
BEGIN:DAYLIGHT
TZOFFSETFROM:-0500
TZOFFSETTO:-0400
TZNAME:EDT
DTSTART:20200308T070000
END:DAYLIGHT
BEGIN:STANDARD
TZOFFSETFROM:-0400
TZOFFSETTO:-0500
TZNAME:EST
DTSTART:20201101T060000
END:STANDARD
BEGIN:DAYLIGHT
TZOFFSETFROM:-0500
TZOFFSETTO:-0400
TZNAME:EDT
DTSTART:20210314T070000
END:DAYLIGHT
BEGIN:STANDARD
TZOFFSETFROM:-0400
TZOFFSETTO:-0500
TZNAME:EST
DTSTART:20211107T060000
END:STANDARD
BEGIN:DAYLIGHT
TZOFFSETFROM:-0500
TZOFFSETTO:-0400
TZNAME:EDT
DTSTART:20220313T070000
END:DAYLIGHT
BEGIN:STANDARD
TZOFFSETFROM:-0400
TZOFFSETTO:-0500
TZNAME:EST
DTSTART:20221106T060000
END:STANDARD
END:VTIMEZONE
BEGIN:VEVENT
DTSTART;TZID=America/New_York:20210429T140000
DTEND;TZID=America/New_York:20210429T150000
DTSTAMP:20260424T180914
CREATED:20210325T232827Z
LAST-MODIFIED:20210325T234452Z
UID:10420-1619704800-1619708400@www.iiug.org
SUMMARY:Informix Tech Talk: Getting Serious About Redundancy! by Tom Girsch
DESCRIPTION:Description: We all *say* we want redundancy for maximum uptime. But are we really willing to invest the money\, time\, and effort to get there? In this presentation\, we’ll cover the many ways to eliminate single points of failure and also discuss ways in which redundancy could be improved even more with product enhancements. \n Tom Girsch – Auto Europe \n  \nRegister Here
URL:https://www.iiug.org/event/informix-tech-talk-getting-serious-about-redundancy-by-tom-girsch/
END:VEVENT
END:VCALENDAR