BEGIN:VCALENDAR
VERSION:2.0
PRODID:-//IIUG - ECPv6.15.20//NONSGML v1.0//EN
CALSCALE:GREGORIAN
METHOD:PUBLISH
X-ORIGINAL-URL:https://www.iiug.org
X-WR-CALDESC:Events for IIUG
REFRESH-INTERVAL;VALUE=DURATION:PT1H
X-Robots-Tag:noindex
X-PUBLISHED-TTL:PT1H
BEGIN:VTIMEZONE
TZID:America/New_York
BEGIN:DAYLIGHT
TZOFFSETFROM:-0500
TZOFFSETTO:-0400
TZNAME:EDT
DTSTART:20200308T070000
END:DAYLIGHT
BEGIN:STANDARD
TZOFFSETFROM:-0400
TZOFFSETTO:-0500
TZNAME:EST
DTSTART:20201101T060000
END:STANDARD
BEGIN:DAYLIGHT
TZOFFSETFROM:-0500
TZOFFSETTO:-0400
TZNAME:EDT
DTSTART:20210314T070000
END:DAYLIGHT
BEGIN:STANDARD
TZOFFSETFROM:-0400
TZOFFSETTO:-0500
TZNAME:EST
DTSTART:20211107T060000
END:STANDARD
BEGIN:DAYLIGHT
TZOFFSETFROM:-0500
TZOFFSETTO:-0400
TZNAME:EDT
DTSTART:20220313T070000
END:DAYLIGHT
BEGIN:STANDARD
TZOFFSETFROM:-0400
TZOFFSETTO:-0500
TZNAME:EST
DTSTART:20221106T060000
END:STANDARD
END:VTIMEZONE
BEGIN:VEVENT
DTSTART;TZID=America/New_York:20210325T140000
DTEND;TZID=America/New_York:20210325T150000
DTSTAMP:20260424T194849
CREATED:20210221T234903Z
LAST-MODIFIED:20210222T180023Z
UID:9805-1616680800-1616684400@www.iiug.org
SUMMARY:Informix Tech Talk: Informix SQL Performance Tuning Tips by Jeff Filippi
DESCRIPTION:Date: Thursday\, March 25\, 2021 \nTitle: Informix SQL Performance Tuning Tips \nDescription: Learn how to improve your Informix SQL statements to optimize performance on your Informix Database system. \nBio: Jeff Filippi\, Integrated Data Consulting\, LLC \nI have worked with Informix products for 30 years and specialize in Informix. I have had my own company for 20 years working with customers on Informix. \nJeff Filippi\nIntegrated Data Consulting\, LLC\nwww.itdataconsulting.com \nREGISTER HERE \n 
URL:https://www.iiug.org/event/informix-tech-talk-informix-sql-performance-tuning-tips-by-jeff-filippi/
END:VEVENT
END:VCALENDAR