BEGIN:VCALENDAR
VERSION:2.0
PRODID:-//IIUG - ECPv6.15.20//NONSGML v1.0//EN
CALSCALE:GREGORIAN
METHOD:PUBLISH
X-ORIGINAL-URL:https://www.iiug.org
X-WR-CALDESC:Events for IIUG
REFRESH-INTERVAL;VALUE=DURATION:PT1H
X-Robots-Tag:noindex
X-PUBLISHED-TTL:PT1H
BEGIN:VTIMEZONE
TZID:America/New_York
BEGIN:DAYLIGHT
TZOFFSETFROM:-0500
TZOFFSETTO:-0400
TZNAME:EDT
DTSTART:20200308T070000
END:DAYLIGHT
BEGIN:STANDARD
TZOFFSETFROM:-0400
TZOFFSETTO:-0500
TZNAME:EST
DTSTART:20201101T060000
END:STANDARD
BEGIN:DAYLIGHT
TZOFFSETFROM:-0500
TZOFFSETTO:-0400
TZNAME:EDT
DTSTART:20210314T070000
END:DAYLIGHT
BEGIN:STANDARD
TZOFFSETFROM:-0400
TZOFFSETTO:-0500
TZNAME:EST
DTSTART:20211107T060000
END:STANDARD
BEGIN:DAYLIGHT
TZOFFSETFROM:-0500
TZOFFSETTO:-0400
TZNAME:EDT
DTSTART:20220313T070000
END:DAYLIGHT
BEGIN:STANDARD
TZOFFSETFROM:-0400
TZOFFSETTO:-0500
TZNAME:EST
DTSTART:20221106T060000
END:STANDARD
END:VTIMEZONE
BEGIN:VEVENT
DTSTART;TZID=America/New_York:20210224T103000
DTEND;TZID=America/New_York:20210224T113000
DTSTAMP:20260424T231004
CREATED:20210130T171718Z
LAST-MODIFIED:20210222T214343Z
UID:9299-1614162600-1614166200@www.iiug.org
SUMMARY:Looking Ahead with IBM Informix in 2021 Webinar
DESCRIPTION:Join IBM Informix Offering Management to hear the 2021 plans for IBM Informix.\n\n\nThe team will also share how it listens to clients and partners by reviewing requests for enhancements submissions.\n\n\nWe look forward to updating you!\n\n\nSave your seat now!
URL:https://www.iiug.org/event/looking-ahead-with-ibm-informix-in-2021-webinar/
END:VEVENT
BEGIN:VEVENT
DTSTART;TZID=America/New_York:20210225T140000
DTEND;TZID=America/New_York:20210225T150000
DTSTAMP:20260424T231004
CREATED:20210129T181935Z
LAST-MODIFIED:20210205T171911Z
UID:9295-1614261600-1614265200@www.iiug.org
SUMMARY:Informix Tech Talk: Three ways to capture data changes when they happen! by Art Kagel
DESCRIPTION:Date: Thursday\, February 25\, 2021 2:00pm EST\n\n\n \nTitle: Three ways to capture data changes when they happen!\n\n\n \nDescription: Informix supports three technologies that we can use to capture changes to our data as they happen:\n\n\n– The Change Data Capture API\n– Push Data Triggers (aka Smart Triggers the Java API for Push Data Triggers)\n– Asynchronous Post Commit Triggers\n\n\n \nThe talk is a survey of the three methods to capture data changes.\n\n\n \nPlease register at – https://www.iiug.org/en/services/next-webcast/
URL:https://www.iiug.org/event/informix-tech-talk-three-ways-to-capture-data-changes-when-they-happen-by-art-kagel/
END:VEVENT
END:VCALENDAR