BEGIN:VCALENDAR
VERSION:2.0
PRODID:-//IIUG - ECPv6.15.20//NONSGML v1.0//EN
CALSCALE:GREGORIAN
METHOD:PUBLISH
X-ORIGINAL-URL:https://www.iiug.org
X-WR-CALDESC:Events for IIUG
REFRESH-INTERVAL;VALUE=DURATION:PT1H
X-Robots-Tag:noindex
X-PUBLISHED-TTL:PT1H
BEGIN:VTIMEZONE
TZID:America/New_York
BEGIN:DAYLIGHT
TZOFFSETFROM:-0500
TZOFFSETTO:-0400
TZNAME:EDT
DTSTART:20190310T070000
END:DAYLIGHT
BEGIN:STANDARD
TZOFFSETFROM:-0400
TZOFFSETTO:-0500
TZNAME:EST
DTSTART:20191103T060000
END:STANDARD
BEGIN:DAYLIGHT
TZOFFSETFROM:-0500
TZOFFSETTO:-0400
TZNAME:EDT
DTSTART:20200308T070000
END:DAYLIGHT
BEGIN:STANDARD
TZOFFSETFROM:-0400
TZOFFSETTO:-0500
TZNAME:EST
DTSTART:20201101T060000
END:STANDARD
BEGIN:DAYLIGHT
TZOFFSETFROM:-0500
TZOFFSETTO:-0400
TZNAME:EDT
DTSTART:20210314T070000
END:DAYLIGHT
BEGIN:STANDARD
TZOFFSETFROM:-0400
TZOFFSETTO:-0500
TZNAME:EST
DTSTART:20211107T060000
END:STANDARD
END:VTIMEZONE
BEGIN:VTIMEZONE
TZID:America/Chicago
BEGIN:DAYLIGHT
TZOFFSETFROM:-0600
TZOFFSETTO:-0500
TZNAME:CDT
DTSTART:20190310T080000
END:DAYLIGHT
BEGIN:STANDARD
TZOFFSETFROM:-0500
TZOFFSETTO:-0600
TZNAME:CST
DTSTART:20191103T070000
END:STANDARD
BEGIN:DAYLIGHT
TZOFFSETFROM:-0600
TZOFFSETTO:-0500
TZNAME:CDT
DTSTART:20200308T080000
END:DAYLIGHT
BEGIN:STANDARD
TZOFFSETFROM:-0500
TZOFFSETTO:-0600
TZNAME:CST
DTSTART:20201101T070000
END:STANDARD
BEGIN:DAYLIGHT
TZOFFSETFROM:-0600
TZOFFSETTO:-0500
TZNAME:CDT
DTSTART:20210314T080000
END:DAYLIGHT
BEGIN:STANDARD
TZOFFSETFROM:-0500
TZOFFSETTO:-0600
TZNAME:CST
DTSTART:20211107T070000
END:STANDARD
END:VTIMEZONE
BEGIN:VEVENT
DTSTART;TZID=America/New_York:20201001T090000
DTEND;TZID=America/New_York:20201001T130000
DTSTAMP:20260425T063850
CREATED:20200828T165254Z
LAST-MODIFIED:20200828T165254Z
UID:9043-1601542800-1601557200@www.iiug.org
SUMMARY:Washington Area Informix User Group Meeting
DESCRIPTION:WAIUG Virtual Meeting October 1st 2020\n\n\nWe have missed you all\, with everything that has been going on and with most of us working full time from home these days we have decided to make the next meeting virtual for the first time. \nIt will be held October 1st from 9am-1pm using a web conference format. We will have some great speakers from IBM and HCL\, more details coming soon. \nRegister Here
URL:https://www.iiug.org/event/washington-area-informix-user-group-meeting-2/
END:VEVENT
BEGIN:VEVENT
DTSTART;TZID=America/Chicago:20201021T090000
DTEND;TZID=America/Chicago:20201021T100000
DTSTAMP:20260425T063850
CREATED:20201005T212332Z
LAST-MODIFIED:20201015T210807Z
UID:9055-1603270800-1603274400@www.iiug.org
SUMMARY:IBM Informix - From GSKit to OpenSSL Webinar
DESCRIPTION:We will discuss the deployment and security advantages of using OpenSSL in the Client\, and how to convert an existing key store so the clients and server can utilize them. \nSpeaker- HCL Informix Engineering
URL:https://www.iiug.org/event/ibm-informix-from-gskit-to-openssl-webinar/
END:VEVENT
END:VCALENDAR