BEGIN:VCALENDAR
VERSION:2.0
PRODID:-//IIUG - ECPv6.15.20//NONSGML v1.0//EN
CALSCALE:GREGORIAN
METHOD:PUBLISH
X-WR-CALNAME:IIUG
X-ORIGINAL-URL:https://www.iiug.org
X-WR-CALDESC:Events for IIUG
REFRESH-INTERVAL;VALUE=DURATION:PT1H
X-Robots-Tag:noindex
X-PUBLISHED-TTL:PT1H
BEGIN:VTIMEZONE
TZID:America/Chicago
BEGIN:DAYLIGHT
TZOFFSETFROM:-0600
TZOFFSETTO:-0500
TZNAME:CDT
DTSTART:20190310T080000
END:DAYLIGHT
BEGIN:STANDARD
TZOFFSETFROM:-0500
TZOFFSETTO:-0600
TZNAME:CST
DTSTART:20191103T070000
END:STANDARD
BEGIN:DAYLIGHT
TZOFFSETFROM:-0600
TZOFFSETTO:-0500
TZNAME:CDT
DTSTART:20200308T080000
END:DAYLIGHT
BEGIN:STANDARD
TZOFFSETFROM:-0500
TZOFFSETTO:-0600
TZNAME:CST
DTSTART:20201101T070000
END:STANDARD
BEGIN:DAYLIGHT
TZOFFSETFROM:-0600
TZOFFSETTO:-0500
TZNAME:CDT
DTSTART:20210314T080000
END:DAYLIGHT
BEGIN:STANDARD
TZOFFSETFROM:-0500
TZOFFSETTO:-0600
TZNAME:CST
DTSTART:20211107T070000
END:STANDARD
END:VTIMEZONE
BEGIN:VTIMEZONE
TZID:America/New_York
BEGIN:DAYLIGHT
TZOFFSETFROM:-0500
TZOFFSETTO:-0400
TZNAME:EDT
DTSTART:20190310T070000
END:DAYLIGHT
BEGIN:STANDARD
TZOFFSETFROM:-0400
TZOFFSETTO:-0500
TZNAME:EST
DTSTART:20191103T060000
END:STANDARD
BEGIN:DAYLIGHT
TZOFFSETFROM:-0500
TZOFFSETTO:-0400
TZNAME:EDT
DTSTART:20200308T070000
END:DAYLIGHT
BEGIN:STANDARD
TZOFFSETFROM:-0400
TZOFFSETTO:-0500
TZNAME:EST
DTSTART:20201101T060000
END:STANDARD
BEGIN:DAYLIGHT
TZOFFSETFROM:-0500
TZOFFSETTO:-0400
TZNAME:EDT
DTSTART:20210314T070000
END:DAYLIGHT
BEGIN:STANDARD
TZOFFSETFROM:-0400
TZOFFSETTO:-0500
TZNAME:EST
DTSTART:20211107T060000
END:STANDARD
END:VTIMEZONE
BEGIN:VEVENT
DTSTART;TZID=America/Chicago:20200812T100000
DTEND;TZID=America/Chicago:20200812T110000
DTSTAMP:20260425T102601
CREATED:20200716T004120Z
LAST-MODIFIED:20200729T230924Z
UID:8977-1597226400-1597230000@www.iiug.org
SUMMARY:Informix v.14.10.xC4W1 Technical Deep Dive webcast - Replication
DESCRIPTION:The IIUG and IBM are pleased to announce a series of webcasts covering the features released in Informix v.14.10.xC4W1\, including some that didn’t make it into the documentation! \nThis is the second in the series: \nAugust 12\, 2020 at 10 am Central (August 12\, 2020 15:00 GMT)\nTopic: Replication \nThe events will be held through a WebEx training session.  \nThe events will be recorded and available for download later along with the presentation materials. Information on these downloads is included in the registration confirmation. \nWe look forward to joining with you for these sessions!
URL:https://www.iiug.org/event/informix-v-14-10-xc4w1-technical-deep-dive-webcast-replication/
END:VEVENT
BEGIN:VEVENT
DTSTART;TZID=America/New_York:20200820T140000
DTEND;TZID=America/New_York:20200820T150000
DTSTAMP:20260425T102601
CREATED:20200521T172539Z
LAST-MODIFIED:20200521T172539Z
UID:8279-1597932000-1597935600@www.iiug.org
SUMMARY:Informix Database Server Monitoring Webinar by Lester Knutsen
DESCRIPTION:How do you use the command-line utilities to manage and monitor an Informix Server?  We will discuss onstat\, oncheck\, and the new InformixHQ to manage your server. \nRegister here
URL:https://www.iiug.org/event/informix-database-server-monitoring-webinar-by-lester-knutsen/
END:VEVENT
BEGIN:VEVENT
DTSTART;TZID=America/Chicago:20200826T100000
DTEND;TZID=America/Chicago:20200826T110000
DTSTAMP:20260425T102601
CREATED:20200716T213919Z
LAST-MODIFIED:20200811T201725Z
UID:8983-1598436000-1598439600@www.iiug.org
SUMMARY:Informix v.14.10.xC4W1 Technical Deep Dive webcast - Java and system administration
DESCRIPTION:The IIUG and IBM are pleased to announce a series of webcasts covering the features released in Informix v.14.10.xC4W1\, including some that didn’t make it into the documentation! \nThis is the third in the series: \nAugust 26\, 2020 at 10 am Central (August 26\, 2020 15:00 GMT)\nTopics: Java and system administration \nThe events will be held through a WebEx training session.  \nThe events will be recorded and available for download later along with the presentation materials. Information on these downloads is included in the registration confirmation. \nWe look forward to joining with you for these sessions!
URL:https://www.iiug.org/event/informix-v-14-10-xc4w1-technical-deep-dive-webcast-java-and-system-administration/
END:VEVENT
END:VCALENDAR