BEGIN:VCALENDAR
VERSION:2.0
PRODID:-//IIUG - ECPv6.15.20//NONSGML v1.0//EN
CALSCALE:GREGORIAN
METHOD:PUBLISH
X-ORIGINAL-URL:https://www.iiug.org
X-WR-CALDESC:Events for IIUG
REFRESH-INTERVAL;VALUE=DURATION:PT1H
X-Robots-Tag:noindex
X-PUBLISHED-TTL:PT1H
BEGIN:VTIMEZONE
TZID:America/New_York
BEGIN:DAYLIGHT
TZOFFSETFROM:-0500
TZOFFSETTO:-0400
TZNAME:EDT
DTSTART:20190310T070000
END:DAYLIGHT
BEGIN:STANDARD
TZOFFSETFROM:-0400
TZOFFSETTO:-0500
TZNAME:EST
DTSTART:20191103T060000
END:STANDARD
BEGIN:DAYLIGHT
TZOFFSETFROM:-0500
TZOFFSETTO:-0400
TZNAME:EDT
DTSTART:20200308T070000
END:DAYLIGHT
BEGIN:STANDARD
TZOFFSETFROM:-0400
TZOFFSETTO:-0500
TZNAME:EST
DTSTART:20201101T060000
END:STANDARD
BEGIN:DAYLIGHT
TZOFFSETFROM:-0500
TZOFFSETTO:-0400
TZNAME:EDT
DTSTART:20210314T070000
END:DAYLIGHT
BEGIN:STANDARD
TZOFFSETFROM:-0400
TZOFFSETTO:-0500
TZNAME:EST
DTSTART:20211107T060000
END:STANDARD
END:VTIMEZONE
BEGIN:VTIMEZONE
TZID:America/Chicago
BEGIN:DAYLIGHT
TZOFFSETFROM:-0600
TZOFFSETTO:-0500
TZNAME:CDT
DTSTART:20190310T080000
END:DAYLIGHT
BEGIN:STANDARD
TZOFFSETFROM:-0500
TZOFFSETTO:-0600
TZNAME:CST
DTSTART:20191103T070000
END:STANDARD
BEGIN:DAYLIGHT
TZOFFSETFROM:-0600
TZOFFSETTO:-0500
TZNAME:CDT
DTSTART:20200308T080000
END:DAYLIGHT
BEGIN:STANDARD
TZOFFSETFROM:-0500
TZOFFSETTO:-0600
TZNAME:CST
DTSTART:20201101T070000
END:STANDARD
BEGIN:DAYLIGHT
TZOFFSETFROM:-0600
TZOFFSETTO:-0500
TZNAME:CDT
DTSTART:20210314T080000
END:DAYLIGHT
BEGIN:STANDARD
TZOFFSETFROM:-0500
TZOFFSETTO:-0600
TZNAME:CST
DTSTART:20211107T070000
END:STANDARD
END:VTIMEZONE
BEGIN:VEVENT
DTSTART;TZID=America/New_York:20200714T100000
DTEND;TZID=America/New_York:20200714T110000
DTSTAMP:20260425T121452
CREATED:20200617T160700Z
LAST-MODIFIED:20230613T202748Z
UID:8946-1594720800-1594724400@www.iiug.org
SUMMARY:Upgrade with Success from Informix 11.70 to Informix 14.10
DESCRIPTION:Are you running IBM Informix Dynamic Server  (IDS) 11.70?  Join this session to help with your plans to migrate from Informix 11.70 to Informix 14.10 with ease.  Please note that Informix 11.70 will reach End of Service (EOS) on September 30\, 2020.     \n \n\n\nSpeakers\n\n\n\n\nGaurav Kumar\nInformix Technical Support\nHCL Software\n\n\n\n\n \nREGISTER HERE
URL:https://www.iiug.org/event/upgrade-with-success-from-informix-11-70-to-informix-14-10/
END:VEVENT
BEGIN:VEVENT
DTSTART;TZID=America/New_York:20200723T140000
DTEND;TZID=America/New_York:20200723T150000
DTSTAMP:20260425T121452
CREATED:20200521T171926Z
LAST-MODIFIED:20200521T173118Z
UID:8276-1595512800-1595516400@www.iiug.org
SUMMARY:Creating Databases\, Tables and managing Security Webinar by Lester Knutsen
DESCRIPTION:How do you build databases and tables in Informix? We will discuss best practices for creating and managing databases and tables\, partitioning\, and database security. \nRegister here \n 
URL:https://www.iiug.org/event/creating-databases-tables-and-managing-security-by-lester-knutsen/
END:VEVENT
BEGIN:VEVENT
DTSTART;TZID=America/Chicago:20200729T100000
DTEND;TZID=America/Chicago:20200729T110000
DTSTAMP:20260425T121452
CREATED:20200715T222405Z
LAST-MODIFIED:20200729T145653Z
UID:8972-1596016800-1596020400@www.iiug.org
SUMMARY:Informix v.14.10.xC4W1 Technical Deep Dive webcast - CSDK and IHQ
DESCRIPTION:The IIUG and IBM are pleased to announce a series of webcasts covering the features released in Informix v.14.10.xC4W1\, including some that didn’t make it into the documentation!\nThis is the first in the series. \nJuly 29\, 2020 at 10 am Central (July 29\, 2020 15:00 GMT) \nTopics: CSDK and IHQ \nThe events will be held through a WebEx training session.  \nThe events will be recorded and available for download later along with the presentation materials. Information on these downloads is included in the registration confirmation. \nWe look forward to joining with you for these sessions!
URL:https://www.iiug.org/event/informix-v-14-10-xc4w1-technical-deep-dive-webcast-csdk-and-ihq/
ORGANIZER;CN="Cindy Lichtenauer":MAILTO:cindy@iiug.org
END:VEVENT
END:VCALENDAR