BEGIN:VCALENDAR
VERSION:2.0
PRODID:-//IIUG - ECPv6.15.20//NONSGML v1.0//EN
CALSCALE:GREGORIAN
METHOD:PUBLISH
X-WR-CALNAME:IIUG
X-ORIGINAL-URL:https://www.iiug.org
X-WR-CALDESC:Events for IIUG
REFRESH-INTERVAL;VALUE=DURATION:PT1H
X-Robots-Tag:noindex
X-PUBLISHED-TTL:PT1H
BEGIN:VTIMEZONE
TZID:America/New_York
BEGIN:DAYLIGHT
TZOFFSETFROM:-0500
TZOFFSETTO:-0400
TZNAME:EDT
DTSTART:20190310T070000
END:DAYLIGHT
BEGIN:STANDARD
TZOFFSETFROM:-0400
TZOFFSETTO:-0500
TZNAME:EST
DTSTART:20191103T060000
END:STANDARD
BEGIN:DAYLIGHT
TZOFFSETFROM:-0500
TZOFFSETTO:-0400
TZNAME:EDT
DTSTART:20200308T070000
END:DAYLIGHT
BEGIN:STANDARD
TZOFFSETFROM:-0400
TZOFFSETTO:-0500
TZNAME:EST
DTSTART:20201101T060000
END:STANDARD
BEGIN:DAYLIGHT
TZOFFSETFROM:-0500
TZOFFSETTO:-0400
TZNAME:EDT
DTSTART:20210314T070000
END:DAYLIGHT
BEGIN:STANDARD
TZOFFSETFROM:-0400
TZOFFSETTO:-0500
TZNAME:EST
DTSTART:20211107T060000
END:STANDARD
END:VTIMEZONE
BEGIN:VEVENT
DTSTART;TZID=America/New_York:20200624T140000
DTEND;TZID=America/New_York:20200624T150000
DTSTAMP:20260425T135126
CREATED:20200617T000411Z
LAST-MODIFIED:20200617T000411Z
UID:8944-1593007200-1593010800@www.iiug.org
SUMMARY:Data Security for Database Administrators
DESCRIPTION:IBM Webinar on Data Security \nToday\, data is the corner stone of any business. As a result\, database teams are facing a number of challenges including the increasing size and complexity of workloads\, moving data and applications to the cloud\, and migrating legacy technologies to cloud-based/cloud-native architectures. To successfully navigate these trends\, organizations must account for new operational risks inherent in hybrid multi cloud data environments and view data security as an essential aspect of modern database administration. In this session we will discuss the core data security use cases that database management teams need to consider as they build next-generation database platforms. \nREGISTER HERE
URL:https://www.iiug.org/event/data-security-for-database-administrators/
END:VEVENT
BEGIN:VEVENT
DTSTART;TZID=America/New_York:20200625T140000
DTEND;TZID=America/New_York:20200625T150000
DTSTAMP:20260425T135126
CREATED:20200521T171625Z
LAST-MODIFIED:20200521T173149Z
UID:8274-1593093600-1593097200@www.iiug.org
SUMMARY:Connecting Users and Tools to Informix Servers Webinar by Lester Knutsen
DESCRIPTION:How do you connect users and tools to an Informix Server from Windows\, Unix\, and the Web? We will discuss connections using Microsoft ODBC\, Informix SDK\, REST\, MongoDB\, Jave\, PHP\, and other options. \nRegister here
URL:https://www.iiug.org/event/connecting-users-and-tools-to-informix-servers-by-lester-knutsen/
END:VEVENT
END:VCALENDAR