BEGIN:VCALENDAR
VERSION:2.0
PRODID:-//IIUG - ECPv6.15.20//NONSGML v1.0//EN
CALSCALE:GREGORIAN
METHOD:PUBLISH
X-ORIGINAL-URL:https://www.iiug.org
X-WR-CALDESC:Events for IIUG
REFRESH-INTERVAL;VALUE=DURATION:PT1H
X-Robots-Tag:noindex
X-PUBLISHED-TTL:PT1H
BEGIN:VTIMEZONE
TZID:America/New_York
BEGIN:DAYLIGHT
TZOFFSETFROM:-0500
TZOFFSETTO:-0400
TZNAME:EDT
DTSTART:20190310T070000
END:DAYLIGHT
BEGIN:STANDARD
TZOFFSETFROM:-0400
TZOFFSETTO:-0500
TZNAME:EST
DTSTART:20191103T060000
END:STANDARD
BEGIN:DAYLIGHT
TZOFFSETFROM:-0500
TZOFFSETTO:-0400
TZNAME:EDT
DTSTART:20200308T070000
END:DAYLIGHT
BEGIN:STANDARD
TZOFFSETFROM:-0400
TZOFFSETTO:-0500
TZNAME:EST
DTSTART:20201101T060000
END:STANDARD
BEGIN:DAYLIGHT
TZOFFSETFROM:-0500
TZOFFSETTO:-0400
TZNAME:EDT
DTSTART:20210314T070000
END:DAYLIGHT
BEGIN:STANDARD
TZOFFSETFROM:-0400
TZOFFSETTO:-0500
TZNAME:EST
DTSTART:20211107T060000
END:STANDARD
END:VTIMEZONE
BEGIN:VEVENT
DTSTART;TZID=America/New_York:20200421T130000
DTEND;TZID=America/New_York:20200421T140000
DTSTAMP:20260425T172148
CREATED:20200304T222644Z
LAST-MODIFIED:20200304T222811Z
UID:8164-1587474000-1587477600@www.iiug.org
SUMMARY:Streaming Analytics Using Asynchronous Post Commit Triggers Webinar
DESCRIPTION:Aggregate and generate real-time reports on OLTP data with zero impact to OLTP applications and without polluting buffer pool with expensive analytic queries. Other use cases  include 1) Data transformations 2) Update external systems like MQTT\, Hadoop and Graph databases 3) Replicate data for tables that do not have primary key\, unique index or ER key. \n  \nSpeaker – Nagaraju Inturi\nSoftware Engineer\nHCL Software
URL:https://www.iiug.org/event/streaming-analytics-using-asynchronous-post-commit-triggers-webinar/
END:VEVENT
END:VCALENDAR